BEGIN:VCALENDAR
VERSION:2.0
PRODID:-//Mensch &amp; Leben - ECPv6.15.20//NONSGML v1.0//EN
CALSCALE:GREGORIAN
METHOD:PUBLISH
X-ORIGINAL-URL:https://mensch-leben.de
X-WR-CALDESC:Veranstaltungen für Mensch &amp; Leben
REFRESH-INTERVAL;VALUE=DURATION:PT1H
X-Robots-Tag:noindex
X-PUBLISHED-TTL:PT1H
BEGIN:VTIMEZONE
TZID:Europe/Berlin
BEGIN:DAYLIGHT
TZOFFSETFROM:+0100
TZOFFSETTO:+0200
TZNAME:CEST
DTSTART:20230326T010000
END:DAYLIGHT
BEGIN:STANDARD
TZOFFSETFROM:+0200
TZOFFSETTO:+0100
TZNAME:CET
DTSTART:20231029T010000
END:STANDARD
BEGIN:DAYLIGHT
TZOFFSETFROM:+0100
TZOFFSETTO:+0200
TZNAME:CEST
DTSTART:20240331T010000
END:DAYLIGHT
BEGIN:STANDARD
TZOFFSETFROM:+0200
TZOFFSETTO:+0100
TZNAME:CET
DTSTART:20241027T010000
END:STANDARD
BEGIN:DAYLIGHT
TZOFFSETFROM:+0100
TZOFFSETTO:+0200
TZNAME:CEST
DTSTART:20250330T010000
END:DAYLIGHT
BEGIN:STANDARD
TZOFFSETFROM:+0200
TZOFFSETTO:+0100
TZNAME:CET
DTSTART:20251026T010000
END:STANDARD
END:VTIMEZONE
BEGIN:VEVENT
DTSTART;TZID=Europe/Berlin:20240216T180000
DTEND;TZID=Europe/Berlin:20240216T193000
DTSTAMP:20260425T122400
CREATED:20231015T150958Z
LAST-MODIFIED:20240205T072207Z
UID:887-1708106400-1708111800@mensch-leben.de
SUMMARY:Demokratie versus Bürokratie - Wie wollen wir leben?
DESCRIPTION:Das Buch von Hannah Arendt „Eichmann in Jerusalem/ Ein Bericht von der Banalität des Bösen“ erschienen 1963\, wirft Fragen auf das Heute: \n\nWas ist das eigentlich? Demokratie? Bürokratie?\nWie sieht die Demokratie im Ideal aus? Wie gestaltet Sie sich derzeit in der Praxis? (Gibt es Paralellen zu Hannah Arendt`s Beschreibung?)\nIn welchen Fällen sind verwaltete Abläufe sinnvoll? Wann wird die Verwaltung des menschlichen Zusammenlebens zum „Bösen“?\n\nWarum ist es wichtig\, dass jeder Einzelne sich über diese Fragen Gedanken macht? \nHerzlich willkommen zu einem lebendigen Austausch! \nWir machen Zukunft selber- \nThemenbegleiterinnen: Marzenna Pelzer & Katrin Balluff \nWir bitten um eine Anmeldung über das Kontaktformular. \n 
URL:https://mensch-leben.de/event/demokratie-versus-buerokratie-wie-wollen-wir-leben/
LOCATION:Yoga-Schule Friedensweg 11/1\, Beuren\, Friedensweg 11/1\, Beuren\, 72660
CATEGORIES:Veranstaltungen im Begegnungsraum
ORGANIZER;CN="Katrin Balluff":MAILTO:kaballuff@gmx.de
END:VEVENT
END:VCALENDAR